BEGIN:VCALENDAR
VERSION:2.0
PRODID:-//Dale Corazon - ECPv6.11.2.1//NONSGML v1.0//EN
CALSCALE:GREGORIAN
METHOD:PUBLISH
X-WR-CALNAME:Dale Corazon
X-ORIGINAL-URL:https://dalecorazon.com
X-WR-CALDESC:Events for Dale Corazon
REFRESH-INTERVAL;VALUE=DURATION:PT1H
X-Robots-Tag:noindex
X-PUBLISHED-TTL:PT1H
BEGIN:VTIMEZONE
TZID:Europe/Helsinki
BEGIN:DAYLIGHT
TZOFFSETFROM:+0200
TZOFFSETTO:+0300
TZNAME:EEST
DTSTART:20260329T010000
END:DAYLIGHT
BEGIN:STANDARD
TZOFFSETFROM:+0300
TZOFFSETTO:+0200
TZNAME:EET
DTSTART:20261025T010000
END:STANDARD
END:VTIMEZONE
BEGIN:VEVENT
DTSTART;TZID=Europe/Helsinki:20260426T073000
DTEND;TZID=Europe/Helsinki:20260426T170000
DTSTAMP:20260424T002924
CREATED:20260416T153301Z
LAST-MODIFIED:20260420T103657Z
UID:74574-1777188600-1777222800@dalecorazon.com
SUMMARY:NEW TRAIL MECHMECH - HABIL PHOENICIANS TOWNS on Sun\, Apr 26\, 2026 with DALE CORAZON - LEBANON EXPLORERS
DESCRIPTION:🚶 MECHMECH & HABIL PHOENICIAN Villages – Trail of our ancestors!!! with DALE CORAZON – LEBANON EXPLORERS\nMechmech and Habil lies in a splendidly beautiful area in Byblos. Our 🚶 walk is Phoenician 👑 King Trail. \n📌 HIKE LOCATION : Mechmech – Habil /Jbeil / Mount Lebanon\n=============== 800 – 1200 meters above sea level.\n60 km from Beirut. \n⏳ WHEN : Sunday\, April 26\, 2026\n======= \n🕢 ENCOUNTER PLACE : Mar Maroun Church Parking\, Dora @ 7:30 AM\n=================\nDriving directions to Mar Maroun https://dalecorazon.com/contact/\nOr Martyrs Square at Al-Nahar Bldg.\, Beirut Downtown @ 7:10 AM \n💰 FEES:\n======\n25 $ including 🚌 transport (comfortable air-conditioned Pullman)\, professional guides\, coffee\, 5 minutes of warming up\, stretching\, and pictures.\nChildren 18 years old and younger will have a discount of 10%. (23$/person)\nEvery 3 coupons can be exchanged for a free hiking trip. \nOptional transportation by your own 🚗 vehicles 15 $/person \n📜 DESCRIPTION OF THE EVENT:\n========================\nThis ancient trail from Mechmech to Habil is different. It is located in Mount Lebanon\, in Byblos area\, and it is one of the highlights places for hike in Lebanon where you can take a lot of unforgettable 📷 pictures. \n🌿🥾 HIKING LEVEL.1 to 3 for easy\, 4 to 6 for intermediate\, 7 to 9 for strenuous \n🥈 Our level 5 is intermediate plus. It is a beautiful 🚶 trail\, and it is an amazing walking path of just 12 KM. \n🥇 Our hiking for level 4: it’s downhill\, an easy and beautiful trail of just 8 KM. From the ⚱️ old houses of Meshmesh\, we will continue along a 🥾 trail leading to the Phoenician 🏛Temple\, then to Habil Village. \nMish Mish Nestled in the heart of the Jbeil mountains is a village with much to offer\, from local gems to a rich 🏺 history and remarkable 🔭 views. Mechmech has an undeniable charm that makes it worth a hike trip with Dale ❤️. \nHabil is a very beautiful and peaceful village to hike in. 90% of the track is covered with🌳 oak\, 🫒 olive and 🌴pine trees! It is known with its famous 💒 ancient church\, Lady of Habil\, where the patriarchs had their headquarters during the middle centuries\, as well as ancient uninhibited houses. The Church overlooks a 🕊 Saints valley where the highlights of 🏺 ancient caves in Lebanon and the Mediterranean Sea to the west and the snow-capped summits of 🌲Cedars of God to the east. During our hike we will reach a water spring where we can rest and enjoy our picnic 🍞 lunch.\nMesh Mesh and Habil’s hike is not just a hike in a very beautiful nature\, along streams\, huge trees\, and breathtaking views; It is a cultural tour as well. \n🎒 WHAT TO TAKE:\n============== \nHealthy snacks that will boost up your energy such as dried fruits\, lunch\, water\, cap\, sunglasses and sunscreen. Wear comfortable walking shoes (A professional brand is recommended) and don’t forget to get a light jacket. DC members get a 20% discount on sports equipment in Sports 4 Ever branches.\n==There will be a breakfast stop along the way== \n☎️ FOR RESERVATION AND INFO:\n========================= \nPlease Call 00961-70-986118 / 00961-70-997062 and by sending SMS\, or WhatsApp mentions your name\, surname and the event you wish to join us on. \n🚷 Can’t make it to join us on this particular date?\n========================================\n📲 Get in touch with us to arrange a personalized\, fully customized private trip tailored to your preferences.\n🚶 Hiking on customize trails or snowy terrain\n🍷Wine tasting events\n🔭 Stargazing events\n🚙 Off-road 4×4 trips\n⛺️ Camping with nearby activities available\n🚌 Sightseeing and Culture tours\n🕊 Spiritual pilgrimage trips\n☀️ Sunset and night hikes featuring lakes and a cozy bonfire\n🤽 Rivers Crossing and Swimming\n⛵️ Rafting and Boat trips\n💧 Underground Exploration Excursions \n📋 NOTE:\n=======\nThank you for not smoking during the trip and following all the ecotourism rules including safety regulations (hikers are advised to join our events to their own responsibility). Personal accident insurance “optional” to contact Mob 03-553411. And occasionally\, due to reasons beyond our control\, slight modifications to the event may occur.\nDear all\, we kindly ask you to write us a review on our google page. Your corporation is highly appreciated; it is very important for us. You can use the link below https://shorturl.at/mPRUX\nYou can join our group on Facebook https://www.facebook.com/groups/dalecorazon/ (group) and https://www.facebook.com/dalecorazonleb (Page)\nInstagram: https://www.instagram.com/dale.corazon.leb.explorers/#\nYouTube: https://www.youtube.com/results?search_query=Dale+Corazon+-+Lebanon+Explorers \nBest Regards\,\nDale ❤️ Corazon – Lebanon 🇱🇧 Explorers
URL:https://dalecorazon.com/event/new-trail-mechmech-habil-phoenicians-towns-on-sun-apr-26-2026-with-dale-corazon-lebanon-explorers/
LOCATION:Mechmech
ATTACH;FMTTYPE=image/jpeg:https://dalecorazon.com/wp-content/uploads/2026/04/IMG-20250125-WA0058.jpg
ORGANIZER;CN="DALE CORAZON - LEBANON EXPLORERS":MAILTO:dalecorazon@gmail.com
END:VEVENT
BEGIN:VEVENT
DTSTART;TZID=Europe/Helsinki:20260501T080000
DTEND;TZID=Europe/Helsinki:20260501T140000
DTSTAMP:20260424T002924
CREATED:20260405T071429Z
LAST-MODIFIED:20260420T103603Z
UID:74563-1777622400-1777644000@dalecorazon.com
SUMMARY:Work Activity for a Cause at JRABTA St. Rafqa Part 2  on Frid\, May 01\, 2026 كل فشخة بترسم بسمة  with DALE CORAZON- LEBANON EXPLORERS
DESCRIPTION:“We only have what we give” – Isabelle Allende\nDear Lovers and friends\,\nThanks for your help with Part 1. Now\, here’s the second part to open the cave.\nIt’s so important to remember our ancestors. Give and help all together as one heart. \nSo mark it on your calendar: this Friday May 01\, a charity event will take place at Jrabta Part 2 and we will be in collaboration workshop Near the Cathedral of Jrabta to support “the Sisters of St. Joseph Convent”.\n” راهبات دير مار يوسف” to open a door to an ancient water spring where St. Rafqa used to drink.\nEvery step\, every backing will help them. They bear seeds of authentic faith\, and live that faith through prayer and asceticism; they have led a committed community life of brotherly love deep rooted in individual prayers and work hard with their hands.\nAll the proceeds will go to the convent. \n🚶 Hiking through the forest with cultural heritage and archeological sites!! And Collaboration work event at Jrabta. \n📌 EVENT LOCATION : Jrebta / Batroun / In the North\n================ 300-450 meters above sea level\n12 km from Kfifan. \n⏳ WHEN : Friday\, May 01\, 2026\n======= \n🕢 ENCOUNTER PLACE : Mar Abda Church parking facing the New bridge\, Jal\n================= El Dib\, @ 8:00 AM.\nDriving directions to Saint Abda Church: https://www.google.com/maps/place/Saint+Abda+Church+-+Jal+El+Dib \n📜 DESCRIPTION OF THE EVENT:\n========================== \nWe at Dale Corazon are thrilled to share with you this activity to open a door to an ancient water spring (Water of Life) on Friday the 01st. We will visit the Museum of St. Rafqa and finally explore the ancient trail. We will 🥾 hike New Trail through a 🌳🌴 pine forest to reach a small church in the middle of the ⛰ Mountain Saint Valley 🕊. The hidden treasures and beauty of 🇱🇧 Lebanon are yet to be unveiled. \n🎒 WHAT TO TAKE:\n============== \nHealthy snacks that will boost up your energy such as dried fruits\, lunch\, water\, cap\, sunglasses and sunscreen. Wear comfortable walking shoes (A professional brand is recommended) and don’t forget to get a light jacket. DC members get a 20% discount on sports equipment in Sports 4 Ever branches.\n==There will be a breakfast stop along the way== \n☎️ FOR RESERVATION AND INFO:\n========================= \nPlease Call 00961-70-986118 / 00961-70-997062 and by sending SMS\, or WhatsApp mentions your name\, surname and the event you wish to join us on. \n📋 NOTE:\n======\nThank you for not smoking during the trip and following all the ecotourism rules including safety regulations (hikers are advised to join our events to their own responsibility). Personal accident insurance “optional” to contact Mob 03-553411. And occasionally\, due to reasons beyond our control\, slight modifications to the event may occur.\nDear all\, we kindly ask you to write us a review on our google page. Your corporation is highly appreciated; it is very important for us. You can use the link below\nhttps://shorturl.at/mPRUX\nYou can join our group on Facebook https://www.facebook.com/groups/dalecorazon/ (group) and https://www.facebook.com/dalecorazonleb (Page)\nInstagram: https://www.instagram.com/dale.corazon.leb.explorers/#\nYouTube: https://www.youtube.com/results?search_query=Dale+Corazon+-+Lebanon+Explorers.com/ \nBest Regards\,\nDale ❤️ Corazon – Lebanon 🇱🇧 Explorers
URL:https://dalecorazon.com/event/work-activity-for-a-cause-at-jrabta-st-rafqa-part-2-on-sat-apr-11-2026-%d9%83%d9%84-%d9%81%d8%b4%d8%ae%d8%a9-%d8%a8%d8%aa%d8%b1%d8%b3%d9%85-%d8%a8%d8%b3%d9%85%d8%a9-with-dale-corazon-lebanon-exp/
LOCATION:JRABTA
ATTACH;FMTTYPE=image/jpeg:https://dalecorazon.com/wp-content/uploads/2026/04/WhatsApp-Image-2026-04-05-at-8.41.35-AM.jpeg
ORGANIZER;CN="DALE CORAZON - LEBANON EXPLORERS":MAILTO:dalecorazon@gmail.com
END:VEVENT
BEGIN:VEVENT
DTSTART;TZID=Europe/Helsinki:20260503T073000
DTEND;TZID=Europe/Helsinki:20260503T170000
DTSTAMP:20260424T002924
CREATED:20260423T050204Z
LAST-MODIFIED:20260423T050707Z
UID:74580-1777793400-1777827600@dalecorazon.com
SUMMARY:LAQLOUQ-BALAA New Desti. on Sun\, May 03\, 2026 with DALE CORAZON - LEBANON EXPLORERS
DESCRIPTION:HIKING Trip to LAQLOUQ – BALAA with DALE CORAZON – LEBANON EXPLORERS\nThis time we will enjoy a 🚶 hike with a special combination: 🧺 Laqlouq- Balaa – Chatine\, a trail of our ⚱️ancestors\, perfect weather conditions and beautiful peaceful 🔭 scenery. \n📌 HIKE LOCATION : \n============== \nLaqlouq – Balaa / Batroun Districts/ In the north\, 1550 – 2100 meters above sea level\, 69 km from Beirut. \n⏳ WHEN : Sunday\, May 03\, 2026\n======== \n🕢 ENCOUNTER PLACE : Mar Maroun Church Parking\, Dora @ 7:30 AM\n=================\nDriving directions to Mar Maroun https://dalecorazon.com/contact/\nOr Martyrs Square at Al-Nahar Bldg.\, Beirut Downtown @ 7:10 AM \n💰 FEES:\n======\n25 $ including 🚌 transport (comfortable air-conditioned Pullman)\, professional guides\, coffee\, 5 minutes of warming up\, stretching\, and pictures.\nChildren 18 years old and younger will have a discount of 10%. (23$/person)\nEvery 3 coupons can be exchanged for a free hiking trip. \nOptional transportation by your own 🚗 vehicles 15 $/person \n📜 DESCRIPTION OF THE EVENT:\n========================\nLaqlouq is one of the 🌿 best winter resorts suited for cross-country skiing. \nDon’t miss the opportunity to contemplate the sky and the nature of the region from “Saydet El Qoren” ⛰ hill located at 2150 m above sea level and you will definitely need a light jacket even if it may be hot in Beirut. A big cross stand there overlooking Batroun – Jbeil area.\nOur trail will begin from Laqlouq and its downhill for about 13km. We will walk for a couple of hours to reach Balou3 balaa then Chatine village.\nThe Balaa Pit or Baatara gorge 💦 waterfall (also known as Balouaa Balaa) is very famous\, it is one of the 10 most beautiful waterfalls in the world\, and it is a triple natural bridge located in the tiny village of Balaa.\n🌿🥾 HIKING LEVEL. 1 to 3 for easy\, 4 to 6 for intermediate\, 7 to 9 for strenuous\nWe will start our hiking near an old church and will see Akoura Beautiful Lakes. Part of our trail will be along with the LMT. \nThere will be divided into three levels\n🏅 Level 2 (Tour – Distance of 2 km – 1Hrs approx. at a slow pace)\nit’s only 👓 visiting the amazing landmarks.\n🥇 Level 4\, is a downhill beautiful trail of just 7 KM. From the 💒 old church\, we will continue along a trail leading to Saydet El Dahab\, then to the hill. We will also be able to see rare views particular to this altitude terrain. After crossing Laqlouq the 🌫️ scenery changes from this stage; we will continue in a trail and 🔭 breathtaking views to be remembered forever. The 🚶 track will take us to Baatara gorge 💦 waterfall. There is a snack where will have lunch together and you can also have your own 🍞 picnic. We will walk down the stairs to see from up “The cave” also known as the “Cave of the Three Bridges”\, the three natural bridges rising one above the other.\n🥈 Level 6 (13 Km Approxi.) will continue from Balaa Pit downhill and head towards the riverbank\, then uphill until we reach Chatine village at an 💒 old Church (Saidet el Atika) overlooking the area. (Level 2 & 4 will go by 🚌 bus). \n🎒 WHAT TO TAKE:\n============== \nHealthy snacks that will boost up your energy such as dried fruits\, lunch\, water\, cap\, sunglasses and sunscreen. Wear comfortable walking shoes (A professional brand is recommended) and don’t forget to get a light jacket. DC members get a 20% discount on sports equipment in Sports 4 Ever branches.\n==There will be a breakfast stop along the way== \n☎️ FOR RESERVATION AND INFO:\n========================= \nPlease Call 00961-70-986118 / 00961-70-997062 and by sending SMS\, or WhatsApp mentions your name\, surname and the event you wish to join us on. \n🚷 Can’t make it to join us on this particular date?\n========================================\n📲 Get in touch with us to arrange a personalized\, fully customized private trip tailored to your preferences.\n🚶 Hiking on customize trails or snowy terrain\n🍷Wine tasting events\n🔭 Stargazing events\n🚙 Off-road 4×4 trips\n⛺️ Camping with nearby activities available\n🚌 Sightseeing and Culture tours\n🕊 Spiritual pilgrimage trips\n☀️ Sunset and night hikes featuring lakes and a cozy bonfire\n🤽 Rivers Crossing and Swimming\n⛵️ Rafting and Boat trips\n💧 Underground Exploration Excursions \n📋 NOTE:\n=======\nThank you for not smoking during the trip and following all the ecotourism rules including safety regulations (hikers are advised to join our events to their own responsibility). Personal accident insurance “optional” to contact Mob 03-553411. And occasionally\, due to reasons beyond our control\, slight modifications to the event may occur.\nDear all\, we kindly ask you to write us a review on our google page. Your corporation is highly appreciated; it is very important for us. You can use the link below https://shorturl.at/mPRUX\nYou can join our group on Facebook https://www.facebook.com/groups/dalecorazon/ (group) and https://www.facebook.com/dalecorazonleb (Page)\nInstagram: https://www.instagram.com/dale.corazon.leb.explorers/#\nYouTube: https://www.youtube.com/results?search_query=Dale+Corazon+-+Lebanon+Explorers \nFor more information\, kindly visit our website: http://www.dalecorazon.com/ \nBest Regards\,\nDale ❤️ Corazon – Lebanon 🇱🇧 Explorers
URL:https://dalecorazon.com/event/laqlouq-balaa-new-desti-on-sun-may-03-2026-with-dale-corazon-lebanon-explorers/
LOCATION:Laqlouq – Balaa
ATTACH;FMTTYPE=image/jpeg:https://dalecorazon.com/wp-content/uploads/2026/04/IMG-20240428-WA0193.jpg
ORGANIZER;CN="DALE CORAZON - LEBANON EXPLORERS":MAILTO:dalecorazon@gmail.com
END:VEVENT
END:VCALENDAR